BEGIN:VCALENDAR
VERSION:2.0
PRODID:-// - ECPv6.15.3//NONSGML v1.0//EN
CALSCALE:GREGORIAN
METHOD:PUBLISH
X-ORIGINAL-URL:https://kidssquare.org
X-WR-CALDESC:Events for 
REFRESH-INTERVAL;VALUE=DURATION:PT1H
X-Robots-Tag:noindex
X-PUBLISHED-TTL:PT1H
BEGIN:VTIMEZONE
TZID:UTC
BEGIN:STANDARD
TZOFFSETFROM:+0000
TZOFFSETTO:+0000
TZNAME:UTC
DTSTART:20240101T000000
END:STANDARD
END:VTIMEZONE
BEGIN:VEVENT
DTSTART;TZID=UTC:20240117T110000
DTEND;TZID=UTC:20240117T140000
DTSTAMP:20260426T033813
CREATED:20240117T015148Z
LAST-MODIFIED:20240117T015148Z
UID:3097-1705489200-1705500000@kidssquare.org
SUMMARY:Open 11:00am-2:00pm
DESCRIPTION:
URL:https://kidssquare.org/event/open-1100am-200pm/
END:VEVENT
END:VCALENDAR