BEGIN:VCALENDAR
VERSION:2.0
PRODID:-// - ECPv6.15.3//NONSGML v1.0//EN
CALSCALE:GREGORIAN
METHOD:PUBLISH
X-ORIGINAL-URL:https://kidssquare.org
X-WR-CALDESC:Events for 
REFRESH-INTERVAL;VALUE=DURATION:PT1H
X-Robots-Tag:noindex
X-PUBLISHED-TTL:PT1H
BEGIN:VTIMEZONE
TZID:UTC
BEGIN:STANDARD
TZOFFSETFROM:+0000
TZOFFSETTO:+0000
TZNAME:UTC
DTSTART:20240101T000000
END:STANDARD
END:VTIMEZONE
BEGIN:VEVENT
DTSTART;TZID=UTC:20240201T100000
DTEND;TZID=UTC:20240201T170000
DTSTAMP:20260426T020754
CREATED:20240131T222928Z
LAST-MODIFIED:20240131T222928Z
UID:3139-1706781600-1706806800@kidssquare.org
SUMMARY:Registration Opens for Summer Camps
DESCRIPTION:Kids Square Children’s Museum Summer Camp 2024 \nAges: 4-6 \nPrice \nMembers: $150 \nGuests: $175 \nRegistration opens: February 1\, 2024 \n\nCreative Construction Engineering Camp: June 10-13\nFizz\, Explode\, Explore Camp: June 17-20\nCareer Quest: June 24-27\nLittle Chef’s Camp: July 8-11\nMash-up Camp (separate theme each day but mashed together in one week of camp): July 15-18\nSTEAM Camp: July 22-25\nBest of the Best Camp: July 29-August 1\n\nSign Up Here (Registration opens February 1\, 2024 at 10:00am): \nhttps://form.jotform.com/220194429918159
URL:https://kidssquare.org/event/registration-opens-for-summer-camps/
END:VEVENT
END:VCALENDAR