BEGIN:VCALENDAR
VERSION:2.0
PRODID:-// - ECPv6.15.3//NONSGML v1.0//EN
CALSCALE:GREGORIAN
METHOD:PUBLISH
X-ORIGINAL-URL:https://kidssquare.org
X-WR-CALDESC:Events for 
REFRESH-INTERVAL;VALUE=DURATION:PT1H
X-Robots-Tag:noindex
X-PUBLISHED-TTL:PT1H
BEGIN:VTIMEZONE
TZID:UTC
BEGIN:STANDARD
TZOFFSETFROM:+0000
TZOFFSETTO:+0000
TZNAME:UTC
DTSTART:20240101T000000
END:STANDARD
END:VTIMEZONE
BEGIN:VEVENT
DTSTART;TZID=UTC:20240715T090000
DTEND;TZID=UTC:20240718T130000
DTSTAMP:20260425T173716
CREATED:20240131T224336Z
LAST-MODIFIED:20240131T224336Z
UID:3155-1721034000-1721307600@kidssquare.org
SUMMARY:Mash-up Camp
DESCRIPTION:Separate theme each day but mashed together in one week of camp!
URL:https://kidssquare.org/event/mash-up-camp/
END:VEVENT
END:VCALENDAR