BEGIN:VCALENDAR
VERSION:2.0
PRODID:-// - ECPv6.15.3//NONSGML v1.0//EN
CALSCALE:GREGORIAN
METHOD:PUBLISH
X-ORIGINAL-URL:https://kidssquare.org
X-WR-CALDESC:Events for 
REFRESH-INTERVAL;VALUE=DURATION:PT1H
X-Robots-Tag:noindex
X-PUBLISHED-TTL:PT1H
BEGIN:VTIMEZONE
TZID:UTC
BEGIN:STANDARD
TZOFFSETFROM:+0000
TZOFFSETTO:+0000
TZNAME:UTC
DTSTART:20250101T000000
END:STANDARD
END:VTIMEZONE
BEGIN:VEVENT
DTSTART;TZID=UTC:20250704T100000
DTEND;TZID=UTC:20250704T140000
DTSTAMP:20260424T205435
CREATED:20250518T211444Z
LAST-MODIFIED:20250518T211444Z
UID:4126-1751623200-1751637600@kidssquare.org
SUMMARY:4th of July Special Hours
DESCRIPTION:Kids Square will be open 10:am-2:00pm on Friday\, July 4.
URL:https://kidssquare.org/event/4th-of-july-special-hours/
END:VEVENT
END:VCALENDAR