BEGIN:VCALENDAR
VERSION:2.0
PRODID:-// - ECPv6.15.3//NONSGML v1.0//EN
CALSCALE:GREGORIAN
METHOD:PUBLISH
X-ORIGINAL-URL:https://kidssquare.org
X-WR-CALDESC:Events for 
REFRESH-INTERVAL;VALUE=DURATION:PT1H
X-Robots-Tag:noindex
X-PUBLISHED-TTL:PT1H
BEGIN:VTIMEZONE
TZID:UTC
BEGIN:STANDARD
TZOFFSETFROM:+0000
TZOFFSETTO:+0000
TZNAME:UTC
DTSTART:20250101T000000
END:STANDARD
END:VTIMEZONE
BEGIN:VEVENT
DTSTART;TZID=UTC:20250712T100000
DTEND;TZID=UTC:20250713T170000
DTSTAMP:20260424T204713
CREATED:20250629T195954Z
LAST-MODIFIED:20250629T195954Z
UID:4164-1752314400-1752426000@kidssquare.org
SUMMARY:Scavenger Hunt - Every Weekend
DESCRIPTION:Find the pictures throughout the museum and win a prize!
URL:https://kidssquare.org/event/scavenger-hunt-every-weekend-24/
END:VEVENT
END:VCALENDAR