BEGIN:VCALENDAR
VERSION:2.0
PRODID:-// - ECPv6.15.3//NONSGML v1.0//EN
CALSCALE:GREGORIAN
METHOD:PUBLISH
X-ORIGINAL-URL:https://kidssquare.org
X-WR-CALDESC:Events for 
REFRESH-INTERVAL;VALUE=DURATION:PT1H
X-Robots-Tag:noindex
X-PUBLISHED-TTL:PT1H
BEGIN:VTIMEZONE
TZID:UTC
BEGIN:STANDARD
TZOFFSETFROM:+0000
TZOFFSETTO:+0000
TZNAME:UTC
DTSTART:20240101T000000
END:STANDARD
END:VTIMEZONE
BEGIN:VEVENT
DTSTART;TZID=UTC:20241128T080000
DTEND;TZID=UTC:20241128T170000
DTSTAMP:20260425T122817
CREATED:20240519T194957Z
LAST-MODIFIED:20240519T194957Z
UID:3319-1732780800-1732813200@kidssquare.org
SUMMARY:CLOSED - November 28\, 2024
DESCRIPTION:We will be closed November 28\, 2024.
URL:https://kidssquare.org/event/closed-november-28-2024/
END:VEVENT
BEGIN:VEVENT
DTSTART;VALUE=DATE:20241128
DTEND;VALUE=DATE:20241129
DTSTAMP:20260425T122817
CREATED:20241123T192513Z
LAST-MODIFIED:20241123T192513Z
UID:3623-1732752000-1732838399@kidssquare.org
SUMMARY:Kids Square CLOSED
DESCRIPTION:
URL:https://kidssquare.org/event/kids-square-closed-3/
END:VEVENT
BEGIN:VEVENT
DTSTART;TZID=UTC:20241127T100000
DTEND;TZID=UTC:20241127T140000
DTSTAMP:20260425T122817
CREATED:20241123T192445Z
LAST-MODIFIED:20241123T192445Z
UID:3620-1732701600-1732716000@kidssquare.org
SUMMARY:Holiday Hours - 10am-2pm
DESCRIPTION:November 27 10:00am-2:00pm
URL:https://kidssquare.org/event/holiday-hours-10am-2pm/
END:VEVENT
BEGIN:VEVENT
DTSTART;TZID=UTC:20241127T100000
DTEND;TZID=UTC:20241127T140000
DTSTAMP:20260425T122817
CREATED:20240519T194857Z
LAST-MODIFIED:20240519T194857Z
UID:3317-1732701600-1732716000@kidssquare.org
SUMMARY:Special Hours: November 27\, 2024
DESCRIPTION:We will be open on November 27\, 2024 from 10am-2pm.
URL:https://kidssquare.org/event/special-hours-november-27-2024/
END:VEVENT
BEGIN:VEVENT
DTSTART;TZID=UTC:20241101T100000
DTEND;TZID=UTC:20241101T180000
DTSTAMP:20260425T122817
CREATED:20240519T200749Z
LAST-MODIFIED:20240519T200749Z
UID:3339-1730455200-1730484000@kidssquare.org
SUMMARY:First Friday Special Ticket Price
DESCRIPTION:First Friday Special Ticket Price: $9 for anyone 1-year-old and up. Open 10am-6pm.
URL:https://kidssquare.org/event/first-friday-special-ticket-price-5/
END:VEVENT
BEGIN:VEVENT
DTSTART;TZID=UTC:20241101T080000
DTEND;TZID=UTC:20241101T170000
DTSTAMP:20260425T122817
CREATED:20240928T220711Z
LAST-MODIFIED:20240928T220711Z
UID:3517-1730448000-1730480400@kidssquare.org
SUMMARY:Comeback Celebration
DESCRIPTION:Come and rediscover the magic of learning and play with us after our recent renovations! It’s going to be a week full of joy and discovery\, and we can’t wait to share it with you.\nOPENING DAY SPECIAL (November 1)Tickets: Just $9 for anyone 1 year old and upActivities: Face painting\, balloon art\, special guest appearances throughout the day\, and take-home activities.\nEXTENDED CELEBRATION DAYS (November 2-5):Tickets: $11 (children under 1 are free!)\nPURCHASE TICKETS:Tickets may be purchased three ways: 1.) Visit the first floor of Center in the Square 2.) Call our box office at 540-224-12003.) Online at https://kidssquare.org/visit-us/
URL:https://kidssquare.org/event/comeback-celebration/
END:VEVENT
BEGIN:VEVENT
DTSTART;TZID=UTC:20241101T080000
DTEND;TZID=UTC:20241101T170000
DTSTAMP:20260425T122817
CREATED:20240912T141047Z
LAST-MODIFIED:20240912T141047Z
UID:3510-1730448000-1730480400@kidssquare.org
SUMMARY:We are REOPENING today!!
DESCRIPTION:
URL:https://kidssquare.org/event/we-are-reopening-today/
END:VEVENT
BEGIN:VEVENT
DTSTART;TZID=UTC:20241005T100000
DTEND;TZID=UTC:20241005T140000
DTSTAMP:20260425T122817
CREATED:20241004T161301Z
LAST-MODIFIED:20241004T161301Z
UID:3525-1728122400-1728136800@kidssquare.org
SUMMARY:Indoor Yard Sale - Open to the Public
DESCRIPTION:
URL:https://kidssquare.org/event/indoor-yard-sale-open-to-the-public/
END:VEVENT
BEGIN:VEVENT
DTSTART;TZID=UTC:20241004T160000
DTEND;TZID=UTC:20241004T180000
DTSTAMP:20260425T122817
CREATED:20241004T161159Z
LAST-MODIFIED:20241004T161159Z
UID:3522-1728057600-1728064800@kidssquare.org
SUMMARY:Indoor Yard Sale - Members Only TODAY
DESCRIPTION:
URL:https://kidssquare.org/event/indoor-yard-sale-members-only-today/
END:VEVENT
BEGIN:VEVENT
DTSTART;TZID=UTC:20241004T100000
DTEND;TZID=UTC:20241004T180000
DTSTAMP:20260425T122817
CREATED:20240519T200559Z
LAST-MODIFIED:20240519T200559Z
UID:3337-1728036000-1728064800@kidssquare.org
SUMMARY:First Friday Special Ticket Price
DESCRIPTION:First Friday Special Ticket Price: $9 for anyone 1-year-old and up. Open 10am-6pm.
URL:https://kidssquare.org/event/first-friday-special-ticket-price-4/
END:VEVENT
BEGIN:VEVENT
DTSTART;TZID=UTC:20241001T080000
DTEND;TZID=UTC:20241031T170000
DTSTAMP:20260425T122817
CREATED:20240912T141008Z
LAST-MODIFIED:20240912T141008Z
UID:3508-1727769600-1730394000@kidssquare.org
SUMMARY:We are TEMPORARILY CLOSED
DESCRIPTION:
URL:https://kidssquare.org/event/we-are-temporarily-closed/
END:VEVENT
BEGIN:VEVENT
DTSTART;TZID=UTC:20240906T100000
DTEND;TZID=UTC:20240906T180000
DTSTAMP:20260425T122817
CREATED:20240519T200515Z
LAST-MODIFIED:20240519T200515Z
UID:3335-1725616800-1725645600@kidssquare.org
SUMMARY:First Friday Special Ticket Price
DESCRIPTION:First Friday Special Ticket Price: $9 for anyone 1-year-old and up. Open 10am-6pm.
URL:https://kidssquare.org/event/first-friday-special-ticket-price-3/
END:VEVENT
BEGIN:VEVENT
DTSTART;TZID=UTC:20240902T100000
DTEND;TZID=UTC:20240902T140000
DTSTAMP:20260425T122817
CREATED:20240519T194458Z
LAST-MODIFIED:20240519T194458Z
UID:3315-1725271200-1725285600@kidssquare.org
SUMMARY:Special Opening: Monday\, September 2\, 2024
DESCRIPTION:We will be open on Monday\, September 2\, 2024 from 10am-2pm.
URL:https://kidssquare.org/event/special-opening-monday-september-2-2024/
END:VEVENT
BEGIN:VEVENT
DTSTART;TZID=UTC:20240901T080000
DTEND;TZID=UTC:20240930T170000
DTSTAMP:20260425T122817
CREATED:20240827T195326Z
LAST-MODIFIED:20240827T195326Z
UID:3490-1725177600-1727715600@kidssquare.org
SUMMARY:TEMPORARILY CLOSED
DESCRIPTION:
URL:https://kidssquare.org/event/temporarily-closed-2/
END:VEVENT
BEGIN:VEVENT
DTSTART;TZID=UTC:20240804T080000
DTEND;TZID=UTC:20240831T170000
DTSTAMP:20260425T122817
CREATED:20240805T025354Z
LAST-MODIFIED:20240805T025354Z
UID:3461-1722758400-1725123600@kidssquare.org
SUMMARY:Temporarily Closed
DESCRIPTION:Update on the Flood situation: Kids Square is closed for the month of August (for now)  \nWe are immensely grateful and overwhelmed by the outpouring of support and love we’ve received during this time. It’s been a challenging experience\, but\, as always\, you’ve stood by us with your unyielding support and faith.  \nIt’s incredibly touching to witness the power of community\, and it’s been nothing short of inspirational for our team.  \nFor our members: We’ve got you covered! Any memberships that are currently held at Kids Square will be extended by the amount of time that we were closed. We value your loyalty and patience during this time. \nAs we continue with the remodeling\, we promise to keep you updated on our progress and any upcoming needs (the roll up your sleeves kind of help). \nOnce again\, thank you all for showing us what community really means. You’re the heart of Kids Square Children’s Museum\, and we’re proud to be part of such an amazing community.
URL:https://kidssquare.org/event/temporarily-closed/
END:VEVENT
BEGIN:VEVENT
DTSTART;TZID=UTC:20240730T100000
DTEND;TZID=UTC:20240731T160000
DTSTAMP:20260425T122817
CREATED:20240519T191709Z
LAST-MODIFIED:20240519T191709Z
UID:3307-1722333600-1722441600@kidssquare.org
SUMMARY:Summer Hours - Tuesday and Wednesday open 10am-4pm
DESCRIPTION:Beginning June 4\, every Tuesday and Wednesday\, we will be open for extended hours 10am-4pm for summer. Summer hours will end August 14.
URL:https://kidssquare.org/event/summer-hours-tuesday-and-wednesday-open-10am-4pm-9/
END:VEVENT
BEGIN:VEVENT
DTSTART;TZID=UTC:20240729T090000
DTEND;TZID=UTC:20240801T130000
DTSTAMP:20260425T122817
CREATED:20240131T224454Z
LAST-MODIFIED:20240131T224454Z
UID:3159-1722243600-1722517200@kidssquare.org
SUMMARY:Best of the Best Camp
DESCRIPTION:
URL:https://kidssquare.org/event/best-of-the-best-camp/
END:VEVENT
BEGIN:VEVENT
DTSTART;TZID=UTC:20240723T100000
DTEND;TZID=UTC:20240724T160000
DTSTAMP:20260425T122817
CREATED:20240519T191506Z
LAST-MODIFIED:20240519T191506Z
UID:3305-1721728800-1721836800@kidssquare.org
SUMMARY:Summer Hours - Tuesday and Wednesday open 10am-4pm
DESCRIPTION:Beginning June 4\, every Tuesday and Wednesday\, we will be open for extended hours 10am-4pm for summer. Summer hours will end August 14.
URL:https://kidssquare.org/event/summer-hours-tuesday-and-wednesday-open-10am-4pm-8/
END:VEVENT
BEGIN:VEVENT
DTSTART;TZID=UTC:20240722T090000
DTEND;TZID=UTC:20240725T130000
DTSTAMP:20260425T122817
CREATED:20240131T224417Z
LAST-MODIFIED:20240131T224417Z
UID:3157-1721638800-1721912400@kidssquare.org
SUMMARY:STEAM Camp
DESCRIPTION:
URL:https://kidssquare.org/event/steam-camp/
END:VEVENT
BEGIN:VEVENT
DTSTART;TZID=UTC:20240719T080000
DTEND;TZID=UTC:20240719T170000
DTSTAMP:20260425T122817
CREATED:20240719T124612Z
LAST-MODIFIED:20240719T124612Z
UID:3429-1721376000-1721408400@kidssquare.org
SUMMARY:Closed Today - July 19
DESCRIPTION:Due to unforeseen circumstances\, Kids Square is closed today\, July 19; we apologize for any inconvenience and appreciate your understanding.
URL:https://kidssquare.org/event/closed-today-july-19/
END:VEVENT
BEGIN:VEVENT
DTSTART;TZID=UTC:20240716T100000
DTEND;TZID=UTC:20240717T160000
DTSTAMP:20260425T122817
CREATED:20240519T191417Z
LAST-MODIFIED:20240519T191417Z
UID:3303-1721124000-1721232000@kidssquare.org
SUMMARY:Summer Hours - Tuesday and Wednesday open 10am-4pm
DESCRIPTION:Beginning June 4\, every Tuesday and Wednesday\, we will be open for extended hours 10am-4pm for summer. Summer hours will end August 14.
URL:https://kidssquare.org/event/summer-hours-tuesday-and-wednesday-open-10am-4pm-7/
END:VEVENT
BEGIN:VEVENT
DTSTART;TZID=UTC:20240715T090000
DTEND;TZID=UTC:20240718T130000
DTSTAMP:20260425T122817
CREATED:20240131T224336Z
LAST-MODIFIED:20240131T224336Z
UID:3155-1721034000-1721307600@kidssquare.org
SUMMARY:Mash-up Camp
DESCRIPTION:Separate theme each day but mashed together in one week of camp!
URL:https://kidssquare.org/event/mash-up-camp/
END:VEVENT
BEGIN:VEVENT
DTSTART;TZID=UTC:20240709T100000
DTEND;TZID=UTC:20240710T160000
DTSTAMP:20260425T122817
CREATED:20240519T190126Z
LAST-MODIFIED:20240519T190126Z
UID:3301-1720519200-1720627200@kidssquare.org
SUMMARY:Summer Hours - Tuesday and Wednesday open 10am-4pm
DESCRIPTION:Beginning June 4\, every Tuesday and Wednesday\, we will be open for extended hours 10am-4pm for summer. Summer hours will end August 14.
URL:https://kidssquare.org/event/summer-hours-tuesday-and-wednesday-open-10am-4pm-6/
END:VEVENT
BEGIN:VEVENT
DTSTART;TZID=UTC:20240708T090000
DTEND;TZID=UTC:20240711T130000
DTSTAMP:20260425T122817
CREATED:20240131T224243Z
LAST-MODIFIED:20240131T224243Z
UID:3153-1720429200-1720702800@kidssquare.org
SUMMARY:Little Chef's Camp
DESCRIPTION:
URL:https://kidssquare.org/event/little-chefs-camp/
END:VEVENT
BEGIN:VEVENT
DTSTART;TZID=UTC:20240705T100000
DTEND;TZID=UTC:20240705T180000
DTSTAMP:20260425T122817
CREATED:20240519T200348Z
LAST-MODIFIED:20240519T200348Z
UID:3331-1720173600-1720202400@kidssquare.org
SUMMARY:First Friday Special Ticket Price
DESCRIPTION:First Friday Special Ticket Price: $9 for anyone 1-year-old and up. Open 10am-6pm.
URL:https://kidssquare.org/event/first-friday-special-ticket-price/
END:VEVENT
BEGIN:VEVENT
DTSTART;TZID=UTC:20240704T100000
DTEND;TZID=UTC:20240704T140000
DTSTAMP:20260425T122817
CREATED:20240519T194319Z
LAST-MODIFIED:20240519T194319Z
UID:3313-1720087200-1720101600@kidssquare.org
SUMMARY:Special Opening: July 4\, 2024
DESCRIPTION:We will be open on the 4th of July from 10am-2pm.
URL:https://kidssquare.org/event/special-opening-july-4-2024/
END:VEVENT
BEGIN:VEVENT
DTSTART;TZID=UTC:20240702T100000
DTEND;TZID=UTC:20240703T160000
DTSTAMP:20260425T122817
CREATED:20240519T184748Z
LAST-MODIFIED:20240519T184748Z
UID:3299-1719914400-1720022400@kidssquare.org
SUMMARY:Summer Hours - Tuesday and Wednesday open 10am-4pm
DESCRIPTION:Beginning June 4\, every Tuesday and Wednesday\, we will be open for extended hours 10am-4pm for summer. Summer hours will end August 14.
URL:https://kidssquare.org/event/summer-hours-tuesday-and-wednesday-open-10am-4pm-5/
END:VEVENT
BEGIN:VEVENT
DTSTART;TZID=UTC:20240625T100000
DTEND;TZID=UTC:20240626T160000
DTSTAMP:20260425T122817
CREATED:20240519T184651Z
LAST-MODIFIED:20240519T184651Z
UID:3297-1719309600-1719417600@kidssquare.org
SUMMARY:Summer Hours - Tuesday and Wednesday open 10am-4pm
DESCRIPTION:Beginning June 4\, every Tuesday and Wednesday\, we will be open for extended hours 10am-4pm for summer. Summer hours will end August 14.
URL:https://kidssquare.org/event/summer-hours-tuesday-and-wednesday-open-10am-4pm-4/
END:VEVENT
BEGIN:VEVENT
DTSTART;TZID=UTC:20240624T090000
DTEND;TZID=UTC:20240627T130000
DTSTAMP:20260425T122817
CREATED:20240131T224205Z
LAST-MODIFIED:20240131T224205Z
UID:3151-1719219600-1719493200@kidssquare.org
SUMMARY:Career Quest
DESCRIPTION:
URL:https://kidssquare.org/event/career-quest/
END:VEVENT
BEGIN:VEVENT
DTSTART;TZID=UTC:20240618T100000
DTEND;TZID=UTC:20240619T160000
DTSTAMP:20260425T122817
CREATED:20240519T184548Z
LAST-MODIFIED:20240519T184548Z
UID:3295-1718704800-1718812800@kidssquare.org
SUMMARY:Summer Hours - Tuesday and Wednesday open 10am-4pm
DESCRIPTION:Beginning June 4\, every Tuesday and Wednesday\, we will be open for extended hours 10am-4pm for summer. Summer hours will end August 14.
URL:https://kidssquare.org/event/summer-hours-tuesday-and-wednesday-open-10am-4pm-3/
END:VEVENT
END:VCALENDAR