BEGIN:VCALENDAR
VERSION:2.0
PRODID:-// - ECPv6.15.3//NONSGML v1.0//EN
CALSCALE:GREGORIAN
METHOD:PUBLISH
X-ORIGINAL-URL:https://kidssquare.org
X-WR-CALDESC:Events for 
REFRESH-INTERVAL;VALUE=DURATION:PT1H
X-Robots-Tag:noindex
X-PUBLISHED-TTL:PT1H
BEGIN:VTIMEZONE
TZID:UTC
BEGIN:STANDARD
TZOFFSETFROM:+0000
TZOFFSETTO:+0000
TZNAME:UTC
DTSTART:20250101T000000
END:STANDARD
END:VTIMEZONE
BEGIN:VEVENT
DTSTART;TZID=UTC:20251206T090000
DTEND;TZID=UTC:20251206T110000
DTSTAMP:20260424T114433
CREATED:20251102T201727Z
LAST-MODIFIED:20251102T201727Z
UID:4342-1765011600-1765018800@kidssquare.org
SUMMARY:Pictures with Santa 2025
DESCRIPTION:It may seem a bit early to start promoting this\, but it’s never too soon to plan for Santa! Our Santa and photographer are truly the best\, and this experience has become a cherished tradition for many families. When we say that spots fill up quickly\, we really mean it. This is a wonderfully magical experience! Amber Perdue Photography\n\n\nMembers $53 – for up to four people on your membership. One free digital photo is included with purchase\, with the opportunity to purchase more.\n\n\nGuests $88 – Includes two-hour admission to the museum for up to four people\, plus pictures with Santa. One free digital picture is included with the opportunity to purchase more.\n\n\nhttps://pci.jotform.com/form/252825826423157
URL:https://kidssquare.org/event/pictures-with-santa-2025/
END:VEVENT
BEGIN:VEVENT
DTSTART;TZID=UTC:20251211T080000
DTEND;TZID=UTC:20251231T170000
DTSTAMP:20260424T114433
CREATED:20251124T211948Z
LAST-MODIFIED:20251124T211948Z
UID:4379-1765440000-1767200400@kidssquare.org
SUMMARY:The Great Gingerbread Escape Experience
DESCRIPTION:***The Great Gingerbread Escape Experience is coming to Center in the Square — and YOU can be part of the magic!*** \nThis brand-new holiday tradition launches December 11–31\, and there are *two* exciting ways to join in: \nThe storyline: Every December\, the Gingerbread People come to life inside Kids Square… but this year\, a gust of winter wind blew the doors open and sent them scattering across all six floors of Center in the Square! Now\, these giant 4–5 ft. gingerbread friends are hiding throughout the building\, waiting for families to find them. \nYou can enjoy the displays for FREE during regular hours\, or your family can upgrade to the \n“GREAT GINGERBREAD ESCAPE EXPERIENCE” \nFor $15 (includes up to 4 people in the same family)\, your family can enjoy a floor-to-floor adventure. Each entry will receive: \n– A Christmas story card with clues for the adventure \n– Materials to craft a little festive cheer as you make your way through the hunt. Note: Families will share the materials (there are not 4 of each in each packet). \n– Tickets to vote for “Best Gingerbread Creation” \n– NOTE: A downloadable app may be required.
URL:https://kidssquare.org/event/the-great-gingerbread-escape-experience/
END:VEVENT
BEGIN:VEVENT
DTSTART;TZID=UTC:20251218T100000
DTEND;TZID=UTC:20251218T160000
DTSTAMP:20260424T114433
CREATED:20251110T002253Z
LAST-MODIFIED:20251110T002253Z
UID:4365-1766052000-1766073600@kidssquare.org
SUMMARY:Special Hours - Closing at 4pm
DESCRIPTION:
URL:https://kidssquare.org/event/special-hours-closing-at-4pm/
END:VEVENT
BEGIN:VEVENT
DTSTART;TZID=UTC:20260119T100000
DTEND;TZID=UTC:20260119T140000
DTSTAMP:20260424T114433
CREATED:20251110T002432Z
LAST-MODIFIED:20251110T002432Z
UID:4367-1768816800-1768831200@kidssquare.org
SUMMARY:Special Hours - Open 10am-2pm
DESCRIPTION:
URL:https://kidssquare.org/event/special-hours-open-10am-2pm/
END:VEVENT
BEGIN:VEVENT
DTSTART;TZID=UTC:20260122T100000
DTEND;TZID=UTC:20260122T160000
DTSTAMP:20260424T114433
CREATED:20251110T002536Z
LAST-MODIFIED:20251110T002536Z
UID:4369-1769076000-1769097600@kidssquare.org
SUMMARY:Special Hours - Closing at 4pm
DESCRIPTION:
URL:https://kidssquare.org/event/special-hours-closing-at-4pm-2/
END:VEVENT
BEGIN:VEVENT
DTSTART;TZID=UTC:20260324T100000
DTEND;TZID=UTC:20260324T160000
DTSTAMP:20260424T114433
CREATED:20260315T214859Z
LAST-MODIFIED:20260315T215004Z
UID:4540-1774346400-1774368000@kidssquare.org
SUMMARY:Special Hours - Open 10am-4pm
DESCRIPTION:
URL:https://kidssquare.org/event/special-hours-open-10am-4pm/
END:VEVENT
BEGIN:VEVENT
DTSTART;TZID=UTC:20260325T080000
DTEND;TZID=UTC:20260325T170000
DTSTAMP:20260424T114433
CREATED:20260315T215027Z
LAST-MODIFIED:20260315T215027Z
UID:4543-1774425600-1774458000@kidssquare.org
SUMMARY:Special Hours - Open 10am-4pm
DESCRIPTION:
URL:https://kidssquare.org/event/special-hours-open-10am-4pm-2/
END:VEVENT
BEGIN:VEVENT
DTSTART;TZID=UTC:20260331T100000
DTEND;TZID=UTC:20260331T160000
DTSTAMP:20260424T114433
CREATED:20260315T215059Z
LAST-MODIFIED:20260315T215059Z
UID:4545-1774951200-1774972800@kidssquare.org
SUMMARY:Special Hours - Open 10am-4pm
DESCRIPTION:
URL:https://kidssquare.org/event/special-hours-open-10am-4pm-3/
END:VEVENT
BEGIN:VEVENT
DTSTART;TZID=UTC:20260401T100000
DTEND;TZID=UTC:20260401T160000
DTSTAMP:20260424T114433
CREATED:20260315T215131Z
LAST-MODIFIED:20260315T215131Z
UID:4547-1775037600-1775059200@kidssquare.org
SUMMARY:Special Hours - Open 10am-4pm
DESCRIPTION:
URL:https://kidssquare.org/event/special-hours-open-10am-4pm-4/
END:VEVENT
BEGIN:VEVENT
DTSTART;TZID=UTC:20260403T100000
DTEND;TZID=UTC:20260403T180000
DTSTAMP:20260424T114433
CREATED:20260315T215348Z
LAST-MODIFIED:20260315T215348Z
UID:4551-1775210400-1775239200@kidssquare.org
SUMMARY:Special Friday Hours - Open 10am-6pm
DESCRIPTION:
URL:https://kidssquare.org/event/special-friday-hours-open-10am-6pm/
END:VEVENT
BEGIN:VEVENT
DTSTART;TZID=UTC:20260405T080000
DTEND;TZID=UTC:20260405T170000
DTSTAMP:20260424T114433
CREATED:20260315T215158Z
LAST-MODIFIED:20260315T215158Z
UID:4549-1775376000-1775408400@kidssquare.org
SUMMARY:Kids Square CLOSED
DESCRIPTION:
URL:https://kidssquare.org/event/kids-square-closed-5/
END:VEVENT
BEGIN:VEVENT
DTSTART;TZID=UTC:20260501T100000
DTEND;TZID=UTC:20260501T180000
DTSTAMP:20260424T114433
CREATED:20260315T215423Z
LAST-MODIFIED:20260315T215423Z
UID:4553-1777629600-1777658400@kidssquare.org
SUMMARY:Special Friday Hours - Open 10am-6pm
DESCRIPTION:
URL:https://kidssquare.org/event/special-friday-hours-open-10am-6pm-2/
END:VEVENT
BEGIN:VEVENT
DTSTART;TZID=UTC:20260605T100000
DTEND;TZID=UTC:20260605T180000
DTSTAMP:20260424T114433
CREATED:20260327T161334Z
LAST-MODIFIED:20260327T161334Z
UID:4588-1780653600-1780682400@kidssquare.org
SUMMARY:Special Friday Hours - Open 10am-6pm
DESCRIPTION:
URL:https://kidssquare.org/event/special-friday-hours-open-10am-6pm-3/
END:VEVENT
BEGIN:VEVENT
DTSTART;TZID=UTC:20260608T100000
DTEND;TZID=UTC:20260611T140000
DTSTAMP:20260424T114433
CREATED:20260315T215811Z
LAST-MODIFIED:20260315T215811Z
UID:4555-1780912800-1781186400@kidssquare.org
SUMMARY:Summer Camp - Little Builders Camp
DESCRIPTION:4-6 year old summer camp sign up form: https://pci.jotform.com/form/260308639531053\n6-8 year old summer camp sign up form: https://pci.jotform.com/form/260308794416057
URL:https://kidssquare.org/event/summer-camp-little-builders-camp/
END:VEVENT
BEGIN:VEVENT
DTSTART;TZID=UTC:20260615T100000
DTEND;TZID=UTC:20260618T140000
DTSTAMP:20260424T114433
CREATED:20260316T004154Z
LAST-MODIFIED:20260316T004154Z
UID:4568-1781517600-1781791200@kidssquare.org
SUMMARY:Summer Camp - Measure\, Mix\, Make It Camp
DESCRIPTION:
URL:https://kidssquare.org/event/summer-camp-measure-mix-make-it-camp/
END:VEVENT
BEGIN:VEVENT
DTSTART;TZID=UTC:20260622T100000
DTEND;TZID=UTC:20260625T140000
DTSTAMP:20260424T114433
CREATED:20260316T004629Z
LAST-MODIFIED:20260316T004629Z
UID:4574-1782122400-1782396000@kidssquare.org
SUMMARY:Summer Camp - When I Grow Up Camp
DESCRIPTION:
URL:https://kidssquare.org/event/summer-camp-when-i-grow-up-camp/
END:VEVENT
BEGIN:VEVENT
DTSTART;TZID=UTC:20260629T100000
DTEND;TZID=UTC:20260702T140000
DTSTAMP:20260424T114433
CREATED:20260315T215903Z
LAST-MODIFIED:20260315T215903Z
UID:4557-1782727200-1783000800@kidssquare.org
SUMMARY:Summer Camp - STEAM Camp
DESCRIPTION:4-6 year old summer camp sign up form: https://pci.jotform.com/form/260308639531053\n6-8 year old summer camp sign up form: https://pci.jotform.com/form/260308794416057
URL:https://kidssquare.org/event/summer-camp-steam-camp/
END:VEVENT
BEGIN:VEVENT
DTSTART;TZID=UTC:20260703T100000
DTEND;TZID=UTC:20260703T180000
DTSTAMP:20260424T114433
CREATED:20260327T161403Z
LAST-MODIFIED:20260327T161403Z
UID:4590-1783072800-1783101600@kidssquare.org
SUMMARY:Special Friday Hours - Open 10am-6pm
DESCRIPTION:
URL:https://kidssquare.org/event/special-friday-hours-open-10am-6pm-4/
END:VEVENT
BEGIN:VEVENT
DTSTART;TZID=UTC:20260706T100000
DTEND;TZID=UTC:20260709T140000
DTSTAMP:20260424T114433
CREATED:20260316T004248Z
LAST-MODIFIED:20260316T004248Z
UID:4570-1783332000-1783605600@kidssquare.org
SUMMARY:Summer Camp - Character Quest Camp
DESCRIPTION:
URL:https://kidssquare.org/event/summer-camp-character-quest-camp/
END:VEVENT
BEGIN:VEVENT
DTSTART;TZID=UTC:20260713T100000
DTEND;TZID=UTC:20260716T140000
DTSTAMP:20260424T114433
CREATED:20260316T004720Z
LAST-MODIFIED:20260316T004720Z
UID:4576-1783936800-1784210400@kidssquare.org
SUMMARY:Summer Camp - Magic Makers Camp
DESCRIPTION:
URL:https://kidssquare.org/event/summer-camp-magic-makers-camp/
END:VEVENT
BEGIN:VEVENT
DTSTART;TZID=UTC:20260720T100000
DTEND;TZID=UTC:20260723T140000
DTSTAMP:20260424T114433
CREATED:20260315T215947Z
LAST-MODIFIED:20260315T215947Z
UID:4559-1784541600-1784815200@kidssquare.org
SUMMARY:Summer Camp - STEAM Greatest Hits Camp
DESCRIPTION:
URL:https://kidssquare.org/event/summer-camp-steam-greatest-hits-camp/
END:VEVENT
BEGIN:VEVENT
DTSTART;TZID=UTC:20260727T100000
DTEND;TZID=UTC:20260730T140000
DTSTAMP:20260424T114433
CREATED:20260316T004416Z
LAST-MODIFIED:20260316T004416Z
UID:4572-1785146400-1785420000@kidssquare.org
SUMMARY:Summer Camp - Kids' Choice Camp
DESCRIPTION:
URL:https://kidssquare.org/event/summer-camp-kids-choice-camp/
END:VEVENT
BEGIN:VEVENT
DTSTART;TZID=UTC:20260807T100000
DTEND;TZID=UTC:20260807T180000
DTSTAMP:20260424T114433
CREATED:20260327T161432Z
LAST-MODIFIED:20260327T161432Z
UID:4592-1786096800-1786125600@kidssquare.org
SUMMARY:Special Friday Hours - Open 10am-6pm
DESCRIPTION:
URL:https://kidssquare.org/event/special-friday-hours-open-10am-6pm-5/
END:VEVENT
BEGIN:VEVENT
DTSTART;TZID=UTC:20260904T100000
DTEND;TZID=UTC:20260904T180000
DTSTAMP:20260424T114433
CREATED:20260419T165602Z
LAST-MODIFIED:20260419T165602Z
UID:4601-1788516000-1788544800@kidssquare.org
SUMMARY:Special Friday Hours - Open 10am-6pm
DESCRIPTION:
URL:https://kidssquare.org/event/special-friday-hours-open-10am-6pm-6/
END:VEVENT
END:VCALENDAR