BEGIN:VCALENDAR
VERSION:2.0
PRODID:-// - ECPv6.15.3//NONSGML v1.0//EN
CALSCALE:GREGORIAN
METHOD:PUBLISH
X-ORIGINAL-URL:https://kidssquare.org
X-WR-CALDESC:Events for 
REFRESH-INTERVAL;VALUE=DURATION:PT1H
X-Robots-Tag:noindex
X-PUBLISHED-TTL:PT1H
BEGIN:VTIMEZONE
TZID:UTC
BEGIN:STANDARD
TZOFFSETFROM:+0000
TZOFFSETTO:+0000
TZNAME:UTC
DTSTART:20230101T000000
END:STANDARD
END:VTIMEZONE
BEGIN:VEVENT
DTSTART;VALUE=DATE:20231203
DTEND;VALUE=DATE:20231204
DTSTAMP:20260425T154025
CREATED:20231129T215654Z
LAST-MODIFIED:20231129T215654Z
UID:3044-1701561600-1701647999@kidssquare.org
SUMMARY:Diggers CLOSED / Construction Zone Hours Change
DESCRIPTION:December 3 – 3PM-5PM – Construction Zone Hours
URL:https://kidssquare.org/event/diggers-closed-construction-zone-hours-change-3/
END:VEVENT
BEGIN:VEVENT
DTSTART;TZID=UTC:20231202T090000
DTEND;TZID=UTC:20231202T110000
DTSTAMP:20260425T154025
CREATED:20231013T172659Z
LAST-MODIFIED:20231013T172659Z
UID:2961-1701507600-1701514800@kidssquare.org
SUMMARY:Pictures with Santa - SOLD OUT
DESCRIPTION:
URL:https://kidssquare.org/event/pictures-with-santa-sold-out/
END:VEVENT
BEGIN:VEVENT
DTSTART;VALUE=DATE:20231202
DTEND;VALUE=DATE:20231203
DTSTAMP:20260425T154025
CREATED:20231129T215602Z
LAST-MODIFIED:20231129T215602Z
UID:3042-1701475200-1701561599@kidssquare.org
SUMMARY:Diggers CLOSED / Construction Zone Hours Change
DESCRIPTION:December 2 – 11AM-2:30PM – Construction Zone Hours
URL:https://kidssquare.org/event/diggers-closed-construction-zone-hours-change-2/
END:VEVENT
BEGIN:VEVENT
DTSTART;VALUE=DATE:20231201
DTEND;VALUE=DATE:20231202
DTSTAMP:20260425T154025
CREATED:20231129T215436Z
LAST-MODIFIED:20231129T215436Z
UID:3040-1701388800-1701475199@kidssquare.org
SUMMARY:Diggers CLOSED/ Construction Zone Hours Change
DESCRIPTION:December 1 – 10AM-2:30PM – Construction Zone Hours
URL:https://kidssquare.org/event/diggers-closed-construction-zone-hours-change/
END:VEVENT
BEGIN:VEVENT
DTSTART;TZID=UTC:20231124T090000
DTEND;TZID=UTC:20231124T170000
DTSTAMP:20260425T154025
CREATED:20231113T185239Z
LAST-MODIFIED:20231113T185239Z
UID:3002-1700816400-1700845200@kidssquare.org
SUMMARY:Members receive early entrance - starting at 9am
DESCRIPTION:Open for public from 10am-5pm
URL:https://kidssquare.org/event/members-receive-early-entrance-starting-at-9am/
END:VEVENT
BEGIN:VEVENT
DTSTART;VALUE=DATE:20231124
DTEND;VALUE=DATE:20231127
DTSTAMP:20260425T154025
CREATED:20230901T191110Z
LAST-MODIFIED:20230901T191110Z
UID:2881-1700784000-1701043199@kidssquare.org
SUMMARY:Black Friday Specials
DESCRIPTION:$20 off a yearly membership – November 24\, 2023 ONLY \nPunchcards will be on sale for $75 – November 24-26\, 2023
URL:https://kidssquare.org/event/black-friday-specials/
END:VEVENT
BEGIN:VEVENT
DTSTART;TZID=UTC:20231123T100000
DTEND;TZID=UTC:20231123T170000
DTSTAMP:20260425T154025
CREATED:20231113T185146Z
LAST-MODIFIED:20231113T185146Z
UID:3000-1700733600-1700758800@kidssquare.org
SUMMARY:Kids Square is CLOSED
DESCRIPTION:
URL:https://kidssquare.org/event/kids-square-is-closed-4/
END:VEVENT
BEGIN:VEVENT
DTSTART;VALUE=DATE:20231107
DTEND;VALUE=DATE:20231108
DTSTAMP:20260425T154025
CREATED:20230901T190124Z
LAST-MODIFIED:20230901T190124Z
UID:2862-1699315200-1699401599@kidssquare.org
SUMMARY:Kids Square closes at 4pm
DESCRIPTION:November 7\, 2023 – Kids Square closes at 4pm
URL:https://kidssquare.org/event/kids-square-closes-at-4pm-2/
END:VEVENT
BEGIN:VEVENT
DTSTART;TZID=UTC:20231104T100000
DTEND;TZID=UTC:20231104T110000
DTSTAMP:20260425T154025
CREATED:20231103T215615Z
LAST-MODIFIED:20231103T215615Z
UID:2968-1699092000-1699095600@kidssquare.org
SUMMARY:Puppet Pals at Kids Square
DESCRIPTION:Puppet Pals will be at Kids Square. Puppet Pals is made up of two young puppeteers that are just starting a local business. Come enjoy the show!
URL:https://kidssquare.org/event/puppet-pals-at-kids-square/
END:VEVENT
BEGIN:VEVENT
DTSTART;TZID=UTC:20231031T100000
DTEND;TZID=UTC:20231031T140000
DTSTAMP:20260425T154025
CREATED:20230901T191717Z
LAST-MODIFIED:20230901T191717Z
UID:2895-1698746400-1698760800@kidssquare.org
SUMMARY:Halloween Special - FREE Admission to Kids in Costume
DESCRIPTION:
URL:https://kidssquare.org/event/halloween-special-free-admission-to-kids-in-costume/
END:VEVENT
BEGIN:VEVENT
DTSTART;TZID=UTC:20231026T170000
DTEND;TZID=UTC:20231026T183000
DTSTAMP:20260425T154025
CREATED:20230901T191820Z
LAST-MODIFIED:20230901T191820Z
UID:2901-1698339600-1698345000@kidssquare.org
SUMMARY:Members ONLY - Bring your own pumpkin to carve or use one of ours to paint
DESCRIPTION:
URL:https://kidssquare.org/event/members-only-bring-your-own-pumpkin-to-carve-or-use-one-of-ours-to-paint/
END:VEVENT
BEGIN:VEVENT
DTSTART;TZID=UTC:20231024T103000
DTEND;TZID=UTC:20231024T113000
DTSTAMP:20260425T154025
CREATED:20230901T192034Z
LAST-MODIFIED:20230901T192034Z
UID:2905-1698143400-1698147000@kidssquare.org
SUMMARY:Play-Doh Palooza  - We provide the Play-doh\, the tools\, and clean up the mess
DESCRIPTION:
URL:https://kidssquare.org/event/play-doh-palooza-we-provide-the-play-doh-the-tools-and-clean-up-the-mess/
END:VEVENT
BEGIN:VEVENT
DTSTART;TZID=UTC:20231024T080000
DTEND;TZID=UTC:20231105T170000
DTSTAMP:20260425T154025
CREATED:20231024T205133Z
LAST-MODIFIED:20231024T205133Z
UID:2964-1698134400-1699203600@kidssquare.org
SUMMARY:The Diggers will be closed October 24-November 5
DESCRIPTION:
URL:https://kidssquare.org/event/the-diggers-will-be-closed-october-24-november-5/
END:VEVENT
BEGIN:VEVENT
DTSTART;VALUE=DATE:20231020
DTEND;VALUE=DATE:20231021
DTSTAMP:20260425T154025
CREATED:20230901T190003Z
LAST-MODIFIED:20230901T190003Z
UID:2860-1697760000-1697846399@kidssquare.org
SUMMARY:Kids Square closes at 4pm
DESCRIPTION:October 20\, 2023 – Kids Square closes at 4pm
URL:https://kidssquare.org/event/kids-square-closes-at-4pm/
LOCATION:Kids Square
END:VEVENT
BEGIN:VEVENT
DTSTART;TZID=UTC:20231014T080000
DTEND;TZID=UTC:20231022T170000
DTSTAMP:20260425T154025
CREATED:20231006T204147Z
LAST-MODIFIED:20231006T204147Z
UID:2928-1697270400-1697994000@kidssquare.org
SUMMARY:Diggers will be CLOSED October 14-22
DESCRIPTION:
URL:https://kidssquare.org/event/diggers-will-be-closed-october-14-22/
END:VEVENT
BEGIN:VEVENT
DTSTART;VALUE=DATE:20230930
DTEND;VALUE=DATE:20231002
DTSTAMP:20260425T154025
CREATED:20230901T191450Z
LAST-MODIFIED:20230901T191450Z
UID:2891-1696032000-1696204799@kidssquare.org
SUMMARY:Scavenger Hunt - Every Weekend in September
DESCRIPTION:Find the Fall pictures throughout the museum and win a prize!
URL:https://kidssquare.org/event/scavenger-hunt-every-weekend-in-september-5/
END:VEVENT
BEGIN:VEVENT
DTSTART;VALUE=DATE:20230923
DTEND;VALUE=DATE:20230925
DTSTAMP:20260425T154025
CREATED:20230901T191412Z
LAST-MODIFIED:20230901T191412Z
UID:2889-1695427200-1695599999@kidssquare.org
SUMMARY:Scavenger Hunt - Every Weekend in September
DESCRIPTION:Find the Fall pictures throughout the museum and win a prize!
URL:https://kidssquare.org/event/scavenger-hunt-every-weekend-in-september-4/
END:VEVENT
BEGIN:VEVENT
DTSTART;VALUE=DATE:20230916
DTEND;VALUE=DATE:20230918
DTSTAMP:20260425T154025
CREATED:20230901T191342Z
LAST-MODIFIED:20230901T191342Z
UID:2887-1694822400-1694995199@kidssquare.org
SUMMARY:Scavenger Hunt - Every Weekend in September
DESCRIPTION:Find the Fall pictures throughout the museum and win a prize!
URL:https://kidssquare.org/event/scavenger-hunt-every-weekend-in-september-3/
END:VEVENT
BEGIN:VEVENT
DTSTART;VALUE=DATE:20230909
DTEND;VALUE=DATE:20230911
DTSTAMP:20260425T154025
CREATED:20230901T191309Z
LAST-MODIFIED:20230901T191309Z
UID:2885-1694217600-1694390399@kidssquare.org
SUMMARY:Scavenger Hunt - Every weekend in September
DESCRIPTION:Find the Fall pictures throughout the museum and win a prize!
URL:https://kidssquare.org/event/scavenger-hunt-every-weekend-in-september-2/
END:VEVENT
BEGIN:VEVENT
DTSTART;VALUE=DATE:20230905
DTEND;VALUE=DATE:20230906
DTSTAMP:20260425T154025
CREATED:20230901T191926Z
LAST-MODIFIED:20230901T191926Z
UID:2903-1693872000-1693958399@kidssquare.org
SUMMARY:Papa's Pizza Special - Dine in at Papa's Pizza and the first 20 kids will receive a free ticket to Kids Square
DESCRIPTION:
URL:https://kidssquare.org/event/papas-pizza-special-dine-in-at-papas-pizza-and-the-first-20-kids-will-receive-a-free-ticket-to-kids-square/
END:VEVENT
BEGIN:VEVENT
DTSTART;VALUE=DATE:20230902
DTEND;VALUE=DATE:20230904
DTSTAMP:20260425T154025
CREATED:20230901T191238Z
LAST-MODIFIED:20230901T191238Z
UID:2883-1693612800-1693785599@kidssquare.org
SUMMARY:Scavenger Hunt - Every weekend in September
DESCRIPTION:Find the Fall pictures throughout the museum and win a prize!
URL:https://kidssquare.org/event/scavenger-hunt-every-weekend-in-september/
END:VEVENT
BEGIN:VEVENT
DTSTART;VALUE=DATE:20230704
DTEND;VALUE=DATE:20230705
DTSTAMP:20260425T154025
CREATED:20230513T191519Z
LAST-MODIFIED:20230614T214032Z
UID:1046-1688428800-1688515199@kidssquare.org
SUMMARY:Kids Square CLOSED
DESCRIPTION:Hey parents! Kids Square will be closed on July 4th to celebrate Independence Day. We’ll be back with more fun soon. Have an amazing 4th of July!
URL:https://kidssquare.org/event/kids-square-web-launch-2/
LOCATION:Kids Square
END:VEVENT
END:VCALENDAR