BEGIN:VCALENDAR
VERSION:2.0
PRODID:-// - ECPv6.15.3//NONSGML v1.0//EN
CALSCALE:GREGORIAN
METHOD:PUBLISH
X-ORIGINAL-URL:https://kidssquare.org
X-WR-CALDESC:Events for 
REFRESH-INTERVAL;VALUE=DURATION:PT1H
X-Robots-Tag:noindex
X-PUBLISHED-TTL:PT1H
BEGIN:VTIMEZONE
TZID:UTC
BEGIN:STANDARD
TZOFFSETFROM:+0000
TZOFFSETTO:+0000
TZNAME:UTC
DTSTART:20250101T000000
END:STANDARD
END:VTIMEZONE
BEGIN:VEVENT
DTSTART;TZID=UTC:20250621T100000
DTEND;TZID=UTC:20250622T170000
DTSTAMP:20260425T135444
CREATED:20250512T005641Z
LAST-MODIFIED:20250512T005641Z
UID:4115-1750500000-1750611600@kidssquare.org
SUMMARY:Scavenger Hunt - Every Weekend
DESCRIPTION:Find the pictures throughout the museum and win a prize!
URL:https://kidssquare.org/event/scavenger-hunt-every-weekend-21/
END:VEVENT
BEGIN:VEVENT
DTSTART;TZID=UTC:20250628T100000
DTEND;TZID=UTC:20250629T170000
DTSTAMP:20260425T135444
CREATED:20250512T005737Z
LAST-MODIFIED:20250512T005737Z
UID:4117-1751104800-1751216400@kidssquare.org
SUMMARY:Scavenger Hunt - Every Weekend
DESCRIPTION:Find the pictures throughout the museum and win a prize!
URL:https://kidssquare.org/event/scavenger-hunt-every-weekend-22/
END:VEVENT
BEGIN:VEVENT
DTSTART;TZID=UTC:20250704T100000
DTEND;TZID=UTC:20250704T140000
DTSTAMP:20260425T135444
CREATED:20250518T211444Z
LAST-MODIFIED:20250518T211444Z
UID:4126-1751623200-1751637600@kidssquare.org
SUMMARY:4th of July Special Hours
DESCRIPTION:Kids Square will be open 10:am-2:00pm on Friday\, July 4.
URL:https://kidssquare.org/event/4th-of-july-special-hours/
END:VEVENT
BEGIN:VEVENT
DTSTART;TZID=UTC:20250705T100000
DTEND;TZID=UTC:20250706T170000
DTSTAMP:20260425T135444
CREATED:20250629T195917Z
LAST-MODIFIED:20250629T195917Z
UID:4162-1751709600-1751821200@kidssquare.org
SUMMARY:Scavenger Hunt - Every Weekend
DESCRIPTION:Find the pictures throughout the museum and win a prize!
URL:https://kidssquare.org/event/scavenger-hunt-every-weekend-23/
END:VEVENT
BEGIN:VEVENT
DTSTART;TZID=UTC:20250712T100000
DTEND;TZID=UTC:20250713T170000
DTSTAMP:20260425T135444
CREATED:20250629T195954Z
LAST-MODIFIED:20250629T195954Z
UID:4164-1752314400-1752426000@kidssquare.org
SUMMARY:Scavenger Hunt - Every Weekend
DESCRIPTION:Find the pictures throughout the museum and win a prize!
URL:https://kidssquare.org/event/scavenger-hunt-every-weekend-24/
END:VEVENT
BEGIN:VEVENT
DTSTART;TZID=UTC:20250719T100000
DTEND;TZID=UTC:20250720T170000
DTSTAMP:20260425T135444
CREATED:20250629T200030Z
LAST-MODIFIED:20250629T200030Z
UID:4166-1752919200-1753030800@kidssquare.org
SUMMARY:Scavenger Hunt - Every Weekend
DESCRIPTION:Find the pictures throughout the museum and win a prize!
URL:https://kidssquare.org/event/scavenger-hunt-every-weekend-25/
END:VEVENT
BEGIN:VEVENT
DTSTART;TZID=UTC:20250726T100000
DTEND;TZID=UTC:20250727T170000
DTSTAMP:20260425T135444
CREATED:20250629T200110Z
LAST-MODIFIED:20250629T200110Z
UID:4168-1753524000-1753635600@kidssquare.org
SUMMARY:Scavenger Hunt - Every Weekend
DESCRIPTION:Find the pictures throughout the museum and win a prize!
URL:https://kidssquare.org/event/scavenger-hunt-every-weekend-26/
END:VEVENT
BEGIN:VEVENT
DTSTART;TZID=UTC:20250801T100000
DTEND;TZID=UTC:20250801T170000
DTSTAMP:20260425T135444
CREATED:20250803T193232Z
LAST-MODIFIED:20250803T193232Z
UID:4221-1754042400-1754067600@kidssquare.org
SUMMARY:First Friday Special Ticket Price
DESCRIPTION:First Friday Special Ticket Price: $9 for anyone 1-year-old and up. Open 10am-6pm.
URL:https://kidssquare.org/event/first-friday-special-ticket-price-11/
END:VEVENT
BEGIN:VEVENT
DTSTART;TZID=UTC:20250802T100000
DTEND;TZID=UTC:20250802T140000
DTSTAMP:20260425T135444
CREATED:20250721T194124Z
LAST-MODIFIED:20250721T194124Z
UID:4202-1754128800-1754143200@kidssquare.org
SUMMARY:Foam & Fun at Layman Family Farms
DESCRIPTION:Early ticket sales! \nGrab yours here: https://form.jotform.com/251675072579164From foam galore to water slides\, zip lines\, crafts\, face painting\, and more\, this will be a day your family won’t want to miss!If the event is canceled due to weather\, Fast Pass ticket holders will be invited to a private play session at Kids Square that same evening!Can’t attend but still want to support? Donate any amount here:[https://ci.ovationtix.com/36192/store/donations/41806](*Be sure to note it’s for Kids Square’s Fundraiser!*)Want to see your name on the farm? Donate $50 or more\, and we’ll add your name to a special sign displayed at the event!We’re also still looking for sponsors and vendors!Email Felicia Branham at fbranham@kidssquare.orgEvery ticket\, every dollar\, every ounce of support helps make Kids Square mission.Please note: Tickets are non-refundable\, but think of them as a donation with awesome perks!*HUGE thanks to our incredible sponsors: \nBank of Botetourt \nHenritze Dental Group \nGreat Strides \nRehabilitation \nElevation Church – Roanoke \nWisler Plumbing\, Heating\, Cooling\, & Electric \nLayman Family Farms \nBlue Cow Ice Cream Co. \nNature’s Trade
URL:https://kidssquare.org/event/foam-fun-at-layman-family-farms/
END:VEVENT
BEGIN:VEVENT
DTSTART;TZID=UTC:20250802T100000
DTEND;TZID=UTC:20250803T170000
DTSTAMP:20260425T135444
CREATED:20250803T192810Z
LAST-MODIFIED:20250803T192810Z
UID:4211-1754128800-1754240400@kidssquare.org
SUMMARY:Scavenger Hunt - Every Weekend
DESCRIPTION:Find the pictures throughout the museum and win a prize!
URL:https://kidssquare.org/event/scavenger-hunt-every-weekend-27/
END:VEVENT
BEGIN:VEVENT
DTSTART;TZID=UTC:20250809T100000
DTEND;TZID=UTC:20250810T170000
DTSTAMP:20260425T135444
CREATED:20250803T192843Z
LAST-MODIFIED:20250803T192843Z
UID:4213-1754733600-1754845200@kidssquare.org
SUMMARY:Scavenger Hunt - Every Weekend
DESCRIPTION:Find the pictures throughout the museum and win a prize!
URL:https://kidssquare.org/event/scavenger-hunt-every-weekend-28/
END:VEVENT
BEGIN:VEVENT
DTSTART;TZID=UTC:20250816T100000
DTEND;TZID=UTC:20250817T170000
DTSTAMP:20260425T135444
CREATED:20250803T193028Z
LAST-MODIFIED:20250803T193028Z
UID:4215-1755338400-1755450000@kidssquare.org
SUMMARY:Scavenger Hunt - Every Weekend
DESCRIPTION:Find the pictures throughout the museum and win a prize!
URL:https://kidssquare.org/event/scavenger-hunt-every-weekend-29/
END:VEVENT
BEGIN:VEVENT
DTSTART;TZID=UTC:20250823T100000
DTEND;TZID=UTC:20250824T170000
DTSTAMP:20260425T135444
CREATED:20250803T193111Z
LAST-MODIFIED:20250803T193111Z
UID:4217-1755943200-1756054800@kidssquare.org
SUMMARY:Scavenger Hunt - Every Weekend
DESCRIPTION:Find the pictures throughout the museum and win a prize!
URL:https://kidssquare.org/event/scavenger-hunt-every-weekend-30/
END:VEVENT
BEGIN:VEVENT
DTSTART;TZID=UTC:20250830T100000
DTEND;TZID=UTC:20250831T170000
DTSTAMP:20260425T135444
CREATED:20250803T193200Z
LAST-MODIFIED:20250803T193200Z
UID:4219-1756548000-1756659600@kidssquare.org
SUMMARY:Scavenger Hunt - Every Weekend
DESCRIPTION:Find the pictures throughout the museum and win a prize!
URL:https://kidssquare.org/event/scavenger-hunt-every-weekend-31/
END:VEVENT
BEGIN:VEVENT
DTSTART;TZID=UTC:20250905T100000
DTEND;TZID=UTC:20250905T180000
DTSTAMP:20260425T135444
CREATED:20250907T215717Z
LAST-MODIFIED:20250907T215835Z
UID:4237-1757066400-1757095200@kidssquare.org
SUMMARY:First Friday Special Ticket Price
DESCRIPTION:First Friday Special Ticket Price: $9 for anyone 1-year-old and up. Open 10am-6pm.
URL:https://kidssquare.org/event/first-friday-special-ticket-price-12/
END:VEVENT
BEGIN:VEVENT
DTSTART;TZID=UTC:20250906T100000
DTEND;TZID=UTC:20250907T170000
DTSTAMP:20260425T135444
CREATED:20250907T215914Z
LAST-MODIFIED:20250907T215914Z
UID:4241-1757152800-1757264400@kidssquare.org
SUMMARY:Scavenger Hunt - Every Weekend
DESCRIPTION:Find the pictures throughout the museum and win a prize!
URL:https://kidssquare.org/event/scavenger-hunt-every-weekend-32/
END:VEVENT
BEGIN:VEVENT
DTSTART;TZID=UTC:20250913T100000
DTEND;TZID=UTC:20250914T170000
DTSTAMP:20260425T135444
CREATED:20250907T220008Z
LAST-MODIFIED:20250907T220008Z
UID:4243-1757757600-1757869200@kidssquare.org
SUMMARY:Scavenger Hunt - Every Weekend
DESCRIPTION:Find the pictures throughout the museum and win a prize!
URL:https://kidssquare.org/event/scavenger-hunt-every-weekend-33/
END:VEVENT
BEGIN:VEVENT
DTSTART;TZID=UTC:20250920T100000
DTEND;TZID=UTC:20250921T170000
DTSTAMP:20260425T135444
CREATED:20250907T220051Z
LAST-MODIFIED:20250907T220051Z
UID:4245-1758362400-1758474000@kidssquare.org
SUMMARY:Scavenger Hunt - Every Weekend
DESCRIPTION:Find the pictures throughout the museum and win a prize!
URL:https://kidssquare.org/event/scavenger-hunt-every-weekend-34/
END:VEVENT
BEGIN:VEVENT
DTSTART;TZID=UTC:20250927T100000
DTEND;TZID=UTC:20250928T170000
DTSTAMP:20260425T135444
CREATED:20250907T220131Z
LAST-MODIFIED:20250907T220131Z
UID:4247-1758967200-1759078800@kidssquare.org
SUMMARY:Scavenger Hunt - Every Weekend
DESCRIPTION:Find the pictures throughout the museum and win a prize!
URL:https://kidssquare.org/event/scavenger-hunt-every-weekend-35/
END:VEVENT
BEGIN:VEVENT
DTSTART;TZID=UTC:20251003T100000
DTEND;TZID=UTC:20251003T180000
DTSTAMP:20260425T135444
CREATED:20250907T215804Z
LAST-MODIFIED:20250907T215804Z
UID:4239-1759485600-1759514400@kidssquare.org
SUMMARY:First Friday Special Ticket Price
DESCRIPTION:First Friday Special Ticket Price: $9 for anyone 1-year-old and up. Open 10am-6pm.
URL:https://kidssquare.org/event/first-friday-special-ticket-price-13/
END:VEVENT
BEGIN:VEVENT
DTSTART;TZID=UTC:20251023T150000
DTEND;TZID=UTC:20251023T190000
DTSTAMP:20260425T135444
CREATED:20251008T195858Z
LAST-MODIFIED:20251008T195858Z
UID:4281-1761231600-1761246000@kidssquare.org
SUMMARY:Trail of Treats Event at Layman Family Farms
DESCRIPTION:Kids Square will close at 2pm on October 23.
URL:https://kidssquare.org/event/trail-of-treats-event-at-layman-family-farms/
END:VEVENT
BEGIN:VEVENT
DTSTART;TZID=UTC:20251027T110000
DTEND;TZID=UTC:20251027T140000
DTSTAMP:20260425T135444
CREATED:20251019T161535Z
LAST-MODIFIED:20251019T161535Z
UID:4291-1761562800-1761573600@kidssquare.org
SUMMARY:Free Admission Open 11am-2pm
DESCRIPTION:Come check out our new kids banking system and play free in the museum Thanks to Atlantic Union Bank\n(No Fieldtrips can be accommodated on this day.)
URL:https://kidssquare.org/event/free-admission-open-11am-2pm/
END:VEVENT
BEGIN:VEVENT
DTSTART;TZID=UTC:20251031T100000
DTEND;TZID=UTC:20251031T140000
DTSTAMP:20260425T135444
CREATED:20251019T161623Z
LAST-MODIFIED:20251019T161623Z
UID:4293-1761904800-1761919200@kidssquare.org
SUMMARY:Happy Halloween! We are closing early
DESCRIPTION:Closing early at 2 PM\nHappy Halloween
URL:https://kidssquare.org/event/happy-halloween-we-are-closing-early/
END:VEVENT
BEGIN:VEVENT
DTSTART;TZID=UTC:20251206T090000
DTEND;TZID=UTC:20251206T110000
DTSTAMP:20260425T135444
CREATED:20251102T201727Z
LAST-MODIFIED:20251102T201727Z
UID:4342-1765011600-1765018800@kidssquare.org
SUMMARY:Pictures with Santa 2025
DESCRIPTION:It may seem a bit early to start promoting this\, but it’s never too soon to plan for Santa! Our Santa and photographer are truly the best\, and this experience has become a cherished tradition for many families. When we say that spots fill up quickly\, we really mean it. This is a wonderfully magical experience! Amber Perdue Photography\n\n\nMembers $53 – for up to four people on your membership. One free digital photo is included with purchase\, with the opportunity to purchase more.\n\n\nGuests $88 – Includes two-hour admission to the museum for up to four people\, plus pictures with Santa. One free digital picture is included with the opportunity to purchase more.\n\n\nhttps://pci.jotform.com/form/252825826423157
URL:https://kidssquare.org/event/pictures-with-santa-2025/
END:VEVENT
BEGIN:VEVENT
DTSTART;TZID=UTC:20251211T080000
DTEND;TZID=UTC:20251231T170000
DTSTAMP:20260425T135444
CREATED:20251124T211948Z
LAST-MODIFIED:20251124T211948Z
UID:4379-1765440000-1767200400@kidssquare.org
SUMMARY:The Great Gingerbread Escape Experience
DESCRIPTION:***The Great Gingerbread Escape Experience is coming to Center in the Square — and YOU can be part of the magic!*** \nThis brand-new holiday tradition launches December 11–31\, and there are *two* exciting ways to join in: \nThe storyline: Every December\, the Gingerbread People come to life inside Kids Square… but this year\, a gust of winter wind blew the doors open and sent them scattering across all six floors of Center in the Square! Now\, these giant 4–5 ft. gingerbread friends are hiding throughout the building\, waiting for families to find them. \nYou can enjoy the displays for FREE during regular hours\, or your family can upgrade to the \n“GREAT GINGERBREAD ESCAPE EXPERIENCE” \nFor $15 (includes up to 4 people in the same family)\, your family can enjoy a floor-to-floor adventure. Each entry will receive: \n– A Christmas story card with clues for the adventure \n– Materials to craft a little festive cheer as you make your way through the hunt. Note: Families will share the materials (there are not 4 of each in each packet). \n– Tickets to vote for “Best Gingerbread Creation” \n– NOTE: A downloadable app may be required.
URL:https://kidssquare.org/event/the-great-gingerbread-escape-experience/
END:VEVENT
BEGIN:VEVENT
DTSTART;TZID=UTC:20251218T100000
DTEND;TZID=UTC:20251218T160000
DTSTAMP:20260425T135444
CREATED:20251110T002253Z
LAST-MODIFIED:20251110T002253Z
UID:4365-1766052000-1766073600@kidssquare.org
SUMMARY:Special Hours - Closing at 4pm
DESCRIPTION:
URL:https://kidssquare.org/event/special-hours-closing-at-4pm/
END:VEVENT
BEGIN:VEVENT
DTSTART;TZID=UTC:20260119T100000
DTEND;TZID=UTC:20260119T140000
DTSTAMP:20260425T135444
CREATED:20251110T002432Z
LAST-MODIFIED:20251110T002432Z
UID:4367-1768816800-1768831200@kidssquare.org
SUMMARY:Special Hours - Open 10am-2pm
DESCRIPTION:
URL:https://kidssquare.org/event/special-hours-open-10am-2pm/
END:VEVENT
BEGIN:VEVENT
DTSTART;TZID=UTC:20260122T100000
DTEND;TZID=UTC:20260122T160000
DTSTAMP:20260425T135444
CREATED:20251110T002536Z
LAST-MODIFIED:20251110T002536Z
UID:4369-1769076000-1769097600@kidssquare.org
SUMMARY:Special Hours - Closing at 4pm
DESCRIPTION:
URL:https://kidssquare.org/event/special-hours-closing-at-4pm-2/
END:VEVENT
BEGIN:VEVENT
DTSTART;TZID=UTC:20260324T100000
DTEND;TZID=UTC:20260324T160000
DTSTAMP:20260425T135444
CREATED:20260315T214859Z
LAST-MODIFIED:20260315T215004Z
UID:4540-1774346400-1774368000@kidssquare.org
SUMMARY:Special Hours - Open 10am-4pm
DESCRIPTION:
URL:https://kidssquare.org/event/special-hours-open-10am-4pm/
END:VEVENT
BEGIN:VEVENT
DTSTART;TZID=UTC:20260325T080000
DTEND;TZID=UTC:20260325T170000
DTSTAMP:20260425T135444
CREATED:20260315T215027Z
LAST-MODIFIED:20260315T215027Z
UID:4543-1774425600-1774458000@kidssquare.org
SUMMARY:Special Hours - Open 10am-4pm
DESCRIPTION:
URL:https://kidssquare.org/event/special-hours-open-10am-4pm-2/
END:VEVENT
END:VCALENDAR