BEGIN:VCALENDAR
VERSION:2.0
PRODID:-// - ECPv6.15.3//NONSGML v1.0//EN
CALSCALE:GREGORIAN
METHOD:PUBLISH
X-ORIGINAL-URL:https://kidssquare.org
X-WR-CALDESC:Events for 
REFRESH-INTERVAL;VALUE=DURATION:PT1H
X-Robots-Tag:noindex
X-PUBLISHED-TTL:PT1H
BEGIN:VTIMEZONE
TZID:UTC
BEGIN:STANDARD
TZOFFSETFROM:+0000
TZOFFSETTO:+0000
TZNAME:UTC
DTSTART:20240101T000000
END:STANDARD
END:VTIMEZONE
BEGIN:VEVENT
DTSTART;TZID=UTC:20240601T080000
DTEND;TZID=UTC:20240601T170000
DTSTAMP:20260425T173714
CREATED:20240519T183833Z
LAST-MODIFIED:20240519T183833Z
UID:3285-1717228800-1717261200@kidssquare.org
SUMMARY:Price Increase
DESCRIPTION:Effective June 1\, 2024\, we’ll adjust our admission prices to ensure we can continue providing the enriching experiences you’ve come to love. Tickets will be $11 for anyone one year old and up. While change is never easy\, please know that this decision was made with careful consideration and with our community’s best interests at heart. \nOur commitment to accessibility remains steadfast. Our membership cost will stay the same\, at just $190 for a full year of unlimited visits. For those preferring flexibility\, our three-month membership remains unchanged. \nWe are not just raising prices; we’re enhancing value. \nIntroducing initiatives to make your Kids Square experience even more special: \n1. **FREE STEAM Evenings**: Three times a year\, dive into the exciting worlds of Science\, Technology\, Engineering\, Art\, and Mathematics with hands-on activities and exploration—all at no extra cost. \n2. **Community Partnerships**: Our collaboration with local libraries continues\, offering free admission and reinforcing our belief in the power of community support. Check with your local library for more information. \n3. **Special Fridays**: On the first Friday of each month\, enjoy discounted admission of $9 and extended hours until 6 pm\, creating more time for play and discovery. \n4. **Monthly Make-and-Takes**: Complementing your visit\, we’re introducing a monthly make-and-take program\, free with admission. Stay tuned on Facebook for dates and details. \n5. **Monthly STEAM Demonstrations **: Explore the wonders of STEAM with monthly staff/volunteer STEAM demonstrations included with admission. Keep an eye on our Facebook page for updates. \nOur mission remains unchanged: to foster a love for learning and creativity in every young mind that walks through our doors. With your continued support\, we’re confident Kids Square will remain a cherished destination where imaginations soar and memories are made. \nThank you for being part of our journey. Together\, we’ll continue to inspire families to explore\, play\, and learn at Kids Square.
URL:https://kidssquare.org/event/price-increase/
END:VEVENT
BEGIN:VEVENT
DTSTART;TZID=UTC:20240604T100000
DTEND;TZID=UTC:20240605T160000
DTSTAMP:20260425T173714
CREATED:20240519T184336Z
LAST-MODIFIED:20240519T184336Z
UID:3289-1717495200-1717603200@kidssquare.org
SUMMARY:Summer Hours - Tuesday and Wednesday open 10am-4pm
DESCRIPTION:Beginning June 4\, every Tuesday and Wednesday\, we will be open extended hours (10am-4pm) for summer. Summer hours will end August 14.
URL:https://kidssquare.org/event/summer-hours-tuesday-and-wednesday-open-10am-4pm/
END:VEVENT
BEGIN:VEVENT
DTSTART;TZID=UTC:20240607T100000
DTEND;TZID=UTC:20240607T180000
DTSTAMP:20260425T173714
CREATED:20240519T200307Z
LAST-MODIFIED:20240519T200307Z
UID:3329-1717754400-1717783200@kidssquare.org
SUMMARY:First Friday Special Ticket
DESCRIPTION:First Friday Special Ticket Price: $9 for anyone 1-year-old and up. Open 10am-6pm.
URL:https://kidssquare.org/event/first-friday-special-ticket/
END:VEVENT
BEGIN:VEVENT
DTSTART;TZID=UTC:20240610T090000
DTEND;TZID=UTC:20240613T130000
DTSTAMP:20260425T173714
CREATED:20240131T223136Z
LAST-MODIFIED:20240131T223136Z
UID:3141-1718010000-1718283600@kidssquare.org
SUMMARY:Creative Constructor Engineering Camp
DESCRIPTION:
URL:https://kidssquare.org/event/creative-constructor-engineering-camp/
END:VEVENT
BEGIN:VEVENT
DTSTART;TZID=UTC:20240611T100000
DTEND;TZID=UTC:20240612T160000
DTSTAMP:20260425T173714
CREATED:20240519T184430Z
LAST-MODIFIED:20240519T184430Z
UID:3293-1718100000-1718208000@kidssquare.org
SUMMARY:Summer Hours - Tuesday and Wednesday open 10am-4pm
DESCRIPTION:Beginning June 4\, every Tuesday and Wednesday\, we will be open for extended hours 10am-4pm for summer. Summer hours will end August 14.
URL:https://kidssquare.org/event/summer-hours-tuesday-and-wednesday-open-10am-4pm-2/
END:VEVENT
BEGIN:VEVENT
DTSTART;TZID=UTC:20240617T090000
DTEND;TZID=UTC:20240620T130000
DTSTAMP:20260425T173714
CREATED:20240131T224130Z
LAST-MODIFIED:20240131T224130Z
UID:3149-1718614800-1718888400@kidssquare.org
SUMMARY:Fizz\, Explode\, Explore Camp
DESCRIPTION:
URL:https://kidssquare.org/event/fizz-explode-explore-camp/
END:VEVENT
BEGIN:VEVENT
DTSTART;TZID=UTC:20240618T100000
DTEND;TZID=UTC:20240619T160000
DTSTAMP:20260425T173714
CREATED:20240519T184548Z
LAST-MODIFIED:20240519T184548Z
UID:3295-1718704800-1718812800@kidssquare.org
SUMMARY:Summer Hours - Tuesday and Wednesday open 10am-4pm
DESCRIPTION:Beginning June 4\, every Tuesday and Wednesday\, we will be open for extended hours 10am-4pm for summer. Summer hours will end August 14.
URL:https://kidssquare.org/event/summer-hours-tuesday-and-wednesday-open-10am-4pm-3/
END:VEVENT
BEGIN:VEVENT
DTSTART;TZID=UTC:20240624T090000
DTEND;TZID=UTC:20240627T130000
DTSTAMP:20260425T173714
CREATED:20240131T224205Z
LAST-MODIFIED:20240131T224205Z
UID:3151-1719219600-1719493200@kidssquare.org
SUMMARY:Career Quest
DESCRIPTION:
URL:https://kidssquare.org/event/career-quest/
END:VEVENT
BEGIN:VEVENT
DTSTART;TZID=UTC:20240625T100000
DTEND;TZID=UTC:20240626T160000
DTSTAMP:20260425T173714
CREATED:20240519T184651Z
LAST-MODIFIED:20240519T184651Z
UID:3297-1719309600-1719417600@kidssquare.org
SUMMARY:Summer Hours - Tuesday and Wednesday open 10am-4pm
DESCRIPTION:Beginning June 4\, every Tuesday and Wednesday\, we will be open for extended hours 10am-4pm for summer. Summer hours will end August 14.
URL:https://kidssquare.org/event/summer-hours-tuesday-and-wednesday-open-10am-4pm-4/
END:VEVENT
END:VCALENDAR