BEGIN:VCALENDAR
VERSION:2.0
PRODID:-// - ECPv6.15.3//NONSGML v1.0//EN
CALSCALE:GREGORIAN
METHOD:PUBLISH
X-ORIGINAL-URL:https://kidssquare.org
X-WR-CALDESC:Events for 
REFRESH-INTERVAL;VALUE=DURATION:PT1H
X-Robots-Tag:noindex
X-PUBLISHED-TTL:PT1H
BEGIN:VTIMEZONE
TZID:UTC
BEGIN:STANDARD
TZOFFSETFROM:+0000
TZOFFSETTO:+0000
TZNAME:UTC
DTSTART:20250101T000000
END:STANDARD
END:VTIMEZONE
BEGIN:VEVENT
DTSTART;TZID=UTC:20250207T100000
DTEND;TZID=UTC:20250207T180000
DTSTAMP:20260425T034700
CREATED:20241123T191642Z
LAST-MODIFIED:20241123T191642Z
UID:3599-1738922400-1738951200@kidssquare.org
SUMMARY:First Friday Special Ticket Price
DESCRIPTION:First Friday Special Ticket Price: $9 for anyone 1-year-old and up. Open 10am-6pm.
URL:https://kidssquare.org/event/first-friday-special-ticket-price-7/
END:VEVENT
BEGIN:VEVENT
DTSTART;TZID=UTC:20250211T080000
DTEND;TZID=UTC:20250211T170000
DTSTAMP:20260425T034700
CREATED:20250211T015631Z
LAST-MODIFIED:20250211T015631Z
UID:4000-1739260800-1739293200@kidssquare.org
SUMMARY:WE ARE CLOSED
DESCRIPTION:Due to the weather\, Kids Square will be closed Tuesday\, February 11. We look forward to seeing you soon!
URL:https://kidssquare.org/event/we-are-closed/
END:VEVENT
BEGIN:VEVENT
DTSTART;TZID=UTC:20250212T100000
DTEND;TZID=UTC:20250212T170000
DTSTAMP:20260425T034700
CREATED:20250211T211104Z
LAST-MODIFIED:20250211T211104Z
UID:4020-1739354400-1739379600@kidssquare.org
SUMMARY:Kids Square CLOSED due to Weather
DESCRIPTION:
URL:https://kidssquare.org/event/kids-square-closed-due-to-weather/
END:VEVENT
END:VCALENDAR