BEGIN:VCALENDAR
VERSION:2.0
PRODID:-// - ECPv6.15.3//NONSGML v1.0//EN
CALSCALE:GREGORIAN
METHOD:PUBLISH
X-ORIGINAL-URL:https://kidssquare.org
X-WR-CALDESC:Events for 
REFRESH-INTERVAL;VALUE=DURATION:PT1H
X-Robots-Tag:noindex
X-PUBLISHED-TTL:PT1H
BEGIN:VTIMEZONE
TZID:UTC
BEGIN:STANDARD
TZOFFSETFROM:+0000
TZOFFSETTO:+0000
TZNAME:UTC
DTSTART:20250101T000000
END:STANDARD
END:VTIMEZONE
BEGIN:VEVENT
DTSTART;TZID=UTC:20250301T100000
DTEND;TZID=UTC:20250302T170000
DTSTAMP:20260425T021255
CREATED:20250211T205648Z
LAST-MODIFIED:20250211T205648Z
UID:4002-1740823200-1740934800@kidssquare.org
SUMMARY:Scavenger Hunt - Every Weekend
DESCRIPTION:Find the pictures throughout the museum and win a prize!
URL:https://kidssquare.org/event/scavenger-hunt-every-weekend-10/
END:VEVENT
BEGIN:VEVENT
DTSTART;TZID=UTC:20250307T100000
DTEND;TZID=UTC:20250307T180000
DTSTAMP:20260425T021255
CREATED:20250211T210130Z
LAST-MODIFIED:20250211T210130Z
UID:4012-1741341600-1741370400@kidssquare.org
SUMMARY:First Friday Special Ticket Price
DESCRIPTION:First Friday Special Ticket Price: $9 for anyone 1-year-old and up. Open 10am-6pm.
URL:https://kidssquare.org/event/first-friday-special-ticket-price-8/
END:VEVENT
BEGIN:VEVENT
DTSTART;TZID=UTC:20250308T100000
DTEND;TZID=UTC:20250309T170000
DTSTAMP:20260425T021255
CREATED:20250211T205728Z
LAST-MODIFIED:20250211T205728Z
UID:4004-1741428000-1741539600@kidssquare.org
SUMMARY:Scavenger Hunt - Every Weekend
DESCRIPTION:Find the pictures throughout the museum and win a prize!
URL:https://kidssquare.org/event/scavenger-hunt-every-weekend-11/
END:VEVENT
BEGIN:VEVENT
DTSTART;TZID=UTC:20250315T100000
DTEND;TZID=UTC:20250316T170000
DTSTAMP:20260425T021255
CREATED:20250211T205830Z
LAST-MODIFIED:20250211T205830Z
UID:4006-1742032800-1742144400@kidssquare.org
SUMMARY:Scavenger Hunt - Every Weekend
DESCRIPTION:Find the pictures throughout the museum and win a prize!
URL:https://kidssquare.org/event/scavenger-hunt-every-weekend-12/
END:VEVENT
BEGIN:VEVENT
DTSTART;TZID=UTC:20250322T100000
DTEND;TZID=UTC:20250323T170000
DTSTAMP:20260425T021255
CREATED:20250211T205914Z
LAST-MODIFIED:20250211T205914Z
UID:4008-1742637600-1742749200@kidssquare.org
SUMMARY:Scavenger Hunt - Every Weekend
DESCRIPTION:Find the pictures throughout the museum and win a prize!
URL:https://kidssquare.org/event/scavenger-hunt-every-weekend-13/
END:VEVENT
BEGIN:VEVENT
DTSTART;TZID=UTC:20250325T100000
DTEND;TZID=UTC:20250325T160000
DTSTAMP:20260425T021255
CREATED:20250310T024102Z
LAST-MODIFIED:20250310T024102Z
UID:4078-1742896800-1742918400@kidssquare.org
SUMMARY:We are open until 4pm today!
DESCRIPTION:
URL:https://kidssquare.org/event/we-are-open-until-4pm-today/
END:VEVENT
BEGIN:VEVENT
DTSTART;TZID=UTC:20250326T100000
DTEND;TZID=UTC:20250326T160000
DTSTAMP:20260425T021255
CREATED:20250310T024137Z
LAST-MODIFIED:20250310T024137Z
UID:4080-1742983200-1743004800@kidssquare.org
SUMMARY:We are open until 4pm today!
DESCRIPTION:
URL:https://kidssquare.org/event/we-are-open-until-4pm-today-2/
END:VEVENT
BEGIN:VEVENT
DTSTART;TZID=UTC:20250329T100000
DTEND;TZID=UTC:20250330T170000
DTSTAMP:20260425T021255
CREATED:20250211T210014Z
LAST-MODIFIED:20250211T210014Z
UID:4010-1743242400-1743354000@kidssquare.org
SUMMARY:Scavenger Hunt - Every Weekend
DESCRIPTION:Find the pictures throughout the museum and win a prize!
URL:https://kidssquare.org/event/scavenger-hunt-every-weekend-14/
END:VEVENT
END:VCALENDAR