BEGIN:VCALENDAR
VERSION:2.0
PRODID:-// - ECPv6.15.3//NONSGML v1.0//EN
CALSCALE:GREGORIAN
METHOD:PUBLISH
X-ORIGINAL-URL:https://kidssquare.org
X-WR-CALDESC:Events for 
REFRESH-INTERVAL;VALUE=DURATION:PT1H
X-Robots-Tag:noindex
X-PUBLISHED-TTL:PT1H
BEGIN:VTIMEZONE
TZID:UTC
BEGIN:STANDARD
TZOFFSETFROM:+0000
TZOFFSETTO:+0000
TZNAME:UTC
DTSTART:20250101T000000
END:STANDARD
END:VTIMEZONE
BEGIN:VEVENT
DTSTART;TZID=UTC:20250404T100000
DTEND;TZID=UTC:20250404T180000
DTSTAMP:20260425T001718
CREATED:20250310T023101Z
LAST-MODIFIED:20250310T023356Z
UID:4068-1743760800-1743789600@kidssquare.org
SUMMARY:First Friday Special Ticket Price
DESCRIPTION:First Friday Special Ticket Price: $9 for anyone 1-year-old and up. Open 10am-6pm.
URL:https://kidssquare.org/event/first-friday-special-ticket-price-9/
END:VEVENT
BEGIN:VEVENT
DTSTART;TZID=UTC:20250405T100000
DTEND;TZID=UTC:20250406T170000
DTSTAMP:20260425T001718
CREATED:20250310T022816Z
LAST-MODIFIED:20250310T023322Z
UID:4060-1743847200-1743958800@kidssquare.org
SUMMARY:Scavenger Hunt - Every Weekend
DESCRIPTION:Find the pictures throughout the museum and win a prize!
URL:https://kidssquare.org/event/scavenger-hunt-every-weekend-15/
END:VEVENT
BEGIN:VEVENT
DTSTART;TZID=UTC:20250412T100000
DTEND;TZID=UTC:20250413T170000
DTSTAMP:20260425T001718
CREATED:20250310T022852Z
LAST-MODIFIED:20250310T023250Z
UID:4062-1744452000-1744563600@kidssquare.org
SUMMARY:Scavenger Hunt - Every Weekend
DESCRIPTION:Find the pictures throughout the museum and win a prize!
URL:https://kidssquare.org/event/scavenger-hunt-every-weekend-16/
END:VEVENT
BEGIN:VEVENT
DTSTART;TZID=UTC:20250416T100000
DTEND;TZID=UTC:20250416T170000
DTSTAMP:20260425T001718
CREATED:20250407T010706Z
LAST-MODIFIED:20250407T010706Z
UID:4098-1744797600-1744822800@kidssquare.org
SUMMARY:CLOSED for Salem Red Sox STEAM Event
DESCRIPTION:
URL:https://kidssquare.org/event/closed-for-salem-red-sox-steam-event/
END:VEVENT
BEGIN:VEVENT
DTSTART;TZID=UTC:20250419T100000
DTEND;TZID=UTC:20250420T170000
DTSTAMP:20260425T001718
CREATED:20250310T022932Z
LAST-MODIFIED:20250310T023223Z
UID:4064-1745056800-1745168400@kidssquare.org
SUMMARY:Scavenger Hunt - Every Weekend
DESCRIPTION:Find the pictures throughout the museum and win a prize!
URL:https://kidssquare.org/event/scavenger-hunt-every-weekend-17/
END:VEVENT
BEGIN:VEVENT
DTSTART;TZID=UTC:20250426T100000
DTEND;TZID=UTC:20250427T170000
DTSTAMP:20260425T001718
CREATED:20250310T023011Z
LAST-MODIFIED:20250310T023150Z
UID:4066-1745661600-1745773200@kidssquare.org
SUMMARY:Scavenger Hunt - Every Weekend
DESCRIPTION:Find the pictures throughout the museum and win a prize!
URL:https://kidssquare.org/event/scavenger-hunt-every-weekend-18/
END:VEVENT
END:VCALENDAR