BEGIN:VCALENDAR
VERSION:2.0
PRODID:-// - ECPv6.15.3//NONSGML v1.0//EN
CALSCALE:GREGORIAN
METHOD:PUBLISH
X-ORIGINAL-URL:https://kidssquare.org
X-WR-CALDESC:Events for 
REFRESH-INTERVAL;VALUE=DURATION:PT1H
X-Robots-Tag:noindex
X-PUBLISHED-TTL:PT1H
BEGIN:VTIMEZONE
TZID:UTC
BEGIN:STANDARD
TZOFFSETFROM:+0000
TZOFFSETTO:+0000
TZNAME:UTC
DTSTART:20250101T000000
END:STANDARD
END:VTIMEZONE
BEGIN:VEVENT
DTSTART;TZID=UTC:20250905T100000
DTEND;TZID=UTC:20250905T180000
DTSTAMP:20260424T154146
CREATED:20250907T215717Z
LAST-MODIFIED:20250907T215835Z
UID:4237-1757066400-1757095200@kidssquare.org
SUMMARY:First Friday Special Ticket Price
DESCRIPTION:First Friday Special Ticket Price: $9 for anyone 1-year-old and up. Open 10am-6pm.
URL:https://kidssquare.org/event/first-friday-special-ticket-price-12/
END:VEVENT
BEGIN:VEVENT
DTSTART;TZID=UTC:20250906T100000
DTEND;TZID=UTC:20250907T170000
DTSTAMP:20260424T154146
CREATED:20250907T215914Z
LAST-MODIFIED:20250907T215914Z
UID:4241-1757152800-1757264400@kidssquare.org
SUMMARY:Scavenger Hunt - Every Weekend
DESCRIPTION:Find the pictures throughout the museum and win a prize!
URL:https://kidssquare.org/event/scavenger-hunt-every-weekend-32/
END:VEVENT
BEGIN:VEVENT
DTSTART;TZID=UTC:20250913T100000
DTEND;TZID=UTC:20250914T170000
DTSTAMP:20260424T154146
CREATED:20250907T220008Z
LAST-MODIFIED:20250907T220008Z
UID:4243-1757757600-1757869200@kidssquare.org
SUMMARY:Scavenger Hunt - Every Weekend
DESCRIPTION:Find the pictures throughout the museum and win a prize!
URL:https://kidssquare.org/event/scavenger-hunt-every-weekend-33/
END:VEVENT
BEGIN:VEVENT
DTSTART;TZID=UTC:20250920T100000
DTEND;TZID=UTC:20250921T170000
DTSTAMP:20260424T154146
CREATED:20250907T220051Z
LAST-MODIFIED:20250907T220051Z
UID:4245-1758362400-1758474000@kidssquare.org
SUMMARY:Scavenger Hunt - Every Weekend
DESCRIPTION:Find the pictures throughout the museum and win a prize!
URL:https://kidssquare.org/event/scavenger-hunt-every-weekend-34/
END:VEVENT
BEGIN:VEVENT
DTSTART;TZID=UTC:20250927T100000
DTEND;TZID=UTC:20250928T170000
DTSTAMP:20260424T154146
CREATED:20250907T220131Z
LAST-MODIFIED:20250907T220131Z
UID:4247-1758967200-1759078800@kidssquare.org
SUMMARY:Scavenger Hunt - Every Weekend
DESCRIPTION:Find the pictures throughout the museum and win a prize!
URL:https://kidssquare.org/event/scavenger-hunt-every-weekend-35/
END:VEVENT
END:VCALENDAR